BEGIN:VCALENDAR
VERSION:2.0
PRODID:-//Ympäristötoimittajat ry – tervetuloa! - ECPv6.15.20//NONSGML v1.0//EN
CALSCALE:GREGORIAN
METHOD:PUBLISH
X-ORIGINAL-URL:https://ymparistotoimittajat.fi
X-WR-CALDESC:Tapahtumat Ympäristötoimittajat ry – tervetuloa!
REFRESH-INTERVAL;VALUE=DURATION:PT1H
X-Robots-Tag:noindex
X-PUBLISHED-TTL:PT1H
BEGIN:VTIMEZONE
TZID:Europe/Helsinki
BEGIN:DAYLIGHT
TZOFFSETFROM:+0200
TZOFFSETTO:+0300
TZNAME:EEST
DTSTART:20200329T010000
END:DAYLIGHT
BEGIN:STANDARD
TZOFFSETFROM:+0300
TZOFFSETTO:+0200
TZNAME:EET
DTSTART:20201025T010000
END:STANDARD
BEGIN:DAYLIGHT
TZOFFSETFROM:+0200
TZOFFSETTO:+0300
TZNAME:EEST
DTSTART:20210328T010000
END:DAYLIGHT
BEGIN:STANDARD
TZOFFSETFROM:+0300
TZOFFSETTO:+0200
TZNAME:EET
DTSTART:20211031T010000
END:STANDARD
BEGIN:DAYLIGHT
TZOFFSETFROM:+0200
TZOFFSETTO:+0300
TZNAME:EEST
DTSTART:20220327T010000
END:DAYLIGHT
BEGIN:STANDARD
TZOFFSETFROM:+0300
TZOFFSETTO:+0200
TZNAME:EET
DTSTART:20221030T010000
END:STANDARD
BEGIN:DAYLIGHT
TZOFFSETFROM:+0200
TZOFFSETTO:+0300
TZNAME:EEST
DTSTART:20230326T010000
END:DAYLIGHT
BEGIN:STANDARD
TZOFFSETFROM:+0300
TZOFFSETTO:+0200
TZNAME:EET
DTSTART:20231029T010000
END:STANDARD
END:VTIMEZONE
BEGIN:VEVENT
DTSTART;TZID=Europe/Helsinki:20210324T170000
DTEND;TZID=Europe/Helsinki:20210324T190000
DTSTAMP:20260423T121701
CREATED:20210224T095330Z
LAST-MODIFIED:20210224T095515Z
UID:397-1616605200-1616612400@ymparistotoimittajat.fi
SUMMARY:Ympäristötoimittajien vuosikokous 24.3. 2021
DESCRIPTION:
URL:https://ymparistotoimittajat.fi/event/ymparistotoimittajien-vuosikokous-24-3-2021/
END:VEVENT
BEGIN:VEVENT
DTSTART;TZID=Europe/Helsinki:20210325T093000
DTEND;TZID=Europe/Helsinki:20210325T120000
DTSTAMP:20260423T121701
CREATED:20210302T100508Z
LAST-MODIFIED:20210302T100508Z
UID:445-1616664600-1616673600@ymparistotoimittajat.fi
SUMMARY:Arktinen alue muutoksessa - toimittajaseminaari verkossa
DESCRIPTION:
URL:https://ymparistotoimittajat.fi/event/arktinen-alue-muutoksessa-toimittajaseminaari-verkossa/
END:VEVENT
BEGIN:VEVENT
DTSTART;VALUE=DATE:20210519
DTEND;VALUE=DATE:20210520
DTSTAMP:20260423T121701
CREATED:20210224T100827Z
LAST-MODIFIED:20210224T100827Z
UID:399-1621382400-1621468799@ymparistotoimittajat.fi
SUMMARY:Ympäristötoimittajien retki Lahteen
DESCRIPTION:
URL:https://ymparistotoimittajat.fi/event/ymparistotoimittajien-retki-lahteen/
END:VEVENT
BEGIN:VEVENT
DTSTART;VALUE=DATE:20220506
DTEND;VALUE=DATE:20220511
DTSTAMP:20260423T121701
CREATED:20220418T115538Z
LAST-MODIFIED:20220418T115804Z
UID:525-1651795200-1652227199@ymparistotoimittajat.fi
SUMMARY:Jäämeren opintoretki
DESCRIPTION:Pari vuotta suunniteltu retki Suomen Lappiin ja Jäämerelle toteutuu vihdoin toukokuussa 2022! Retkelle on lähdössä 22 ympäristötoimittajaa – sinnikkään retkikunnan kokoonpano on säilynyt lähes samana kuin kaksi vuotta sitten.
URL:https://ymparistotoimittajat.fi/event/jaameren-opintoretki/
END:VEVENT
END:VCALENDAR